PDS_VERSION_ID = PDS3
/* Identification Information */
DATA_SET_ID = "MRO-M-CTX-HiROC-V1.0"
PRODUCT_ID = "P05_002800_1814_XI_01N035W"
PRODUCER_INSTITUTION_NAME = "UNIVERSITY OF ARIZONA"
PRDOUCER_ID = "UA"
PRODUCER_FULL_NAME = "ALFRED MCEWEN"
SOURCE_PRODUCT_ID = NULL
MISSION_NAME = "MARS RECONNAISSANCE ORBITER"
SPACECRAFT_NAME = "MARS RECONNAISSANCE ORBITER"
INSTRUMENT_NAME = "CONTEXT CAMERA"
INSTRUMENT_ID = "MRO-CTX"
TARGET_NAME = "MARS"
START_TIME = "2007-03-02T15:05:10.994"
ORBIT_NUMBER = 2800
SPACECRAFT_CLOCK_START_COUNT = "0857315129:234"
PRODUCT_CREATION_TIME = 2011-02-13T03:16:07
SOFTWARE_NAME = "CTX_Finalizer (1.4 2010/08/25 21:53:25)"
NOTE = "Special map product for HiROC"
OBJECT = IMAGE_MAP_PROJECTION
  MAP_PROJECTION_TYPE = "EQUIRECTANGULAR"
  PROJECTION_LATITUDE_TYPE = PLANETOCENTRIC
  A_AXIS_RADIUS = 3396.19 <KM>
  B_AXIS_RADIUS = 3396.19 <KM>
  C_AXIS_RADIUS = 3376.2 <KM>
  FIRST_STANDARD_PARALLEL = "N/A"
  SECOND_STANDARD_PARALLEL = "N/A"
  COORDINATE_SYSTEM_NAME = PLANETOCENTRIC
  POSITIVE_LONGITUDE_DIRECTION = EAST
  KEYWORD_LATITUDE_TYPE = PLANETOCENTRIC
  CENTER_LATITUDE = 0 <DEG>
  CENTER_LONGITUDE = 0.0 <DEG>
  LINE_FIRST_PIXEL = 1
  LINE_LAST_PIXEL = 62687
  SAMPLE_FIRST_PIXEL = 1
  SAMPLE_LAST_PIXEL = 12893
  MAP_PROJECTION_ROTATION = 0.0 <DEG>
  MAP_RESOLUTION = 11854.939504661 <PIX/DEG>
  MAP_SCALE = 5.0 <METERS/PIXEL>
  MAXIMUM_LATITUDE = 4.0714584146788 <DEG>
  MINIMUM_LATITUDE = -1.2163513974005 <DEG>
  EASTERNMOST_LONGITUDE = 324.67105592006 <DEG>
  WESTERNMOST_LONGITUDE = 323.58353992048 <DEG>
  LINE_PROJECTION_OFFSET = 48267.5 <PIXEL>
  SAMPLE_PROJECTION_OFFSET = -3836062.5 <PIXEL>
END_OBJECT = IMAGE_MAP_PROJECTION
/* The JPEG2000 image data file associated with this label. */
OBJECT = COMPRESSED_FILE
  FILE_NAME = "P05_002800_1814_XI_01N035W.JP2"
  RECORD_TYPE = UNDEFINED
  ENCODING_TYPE = "JP2"
  ENCODING_TYPE_VERSION_NAME = "ISO/IEC15444-1:2004"
  INTERCHANGE_FORMAT = BINARY
  /* The name of the original source file. */
  UNCOMPRESSED_FILE_NAME = "P05_002800_1814_XI_01N035W.28112.img"
  /* The amount of original image data. */
  REQUIRED_STORAGE_BYTES = 808223491 <BYTES>
  ^DESCRIPTION = "JP2INFO.TXT"
END_OBJECT = COMPRESSED_FILE
/* The source image data definition. */
OBJECT = UNCOMPRESSED_FILE
  FILE_NAME = "P05_002800_1814_XI_01N035W.28112.img"
  RECORD_TYPE = FIXED_LENGTH
  RECORD_BYTES = 12893 <BYTES>
  FILE_RECORDS = 62687
  ^IMAGE = "P05_002800_1814_XI_01N035W.28112.img"
  OBJECT = IMAGE
    LINES = 62687
    LINE_SAMPLES = 12893
    BANDS = 1
    CENTER_FILTER_WAVELENGTH = 0.65 <micrometers>
    BANDWIDTH = 0.15 <micrometers>
    BAND_STORAGE_TYPE = BAND_SEQUENTIAL
    OFFSET = 0.069258940981608
    SCALING_FACTOR = 2.35958830185635e-04
    SAMPLE_BITS = 8
    SAMPLE_BIT_MASK = 2#11111111#
    SAMPLE_TYPE = MSB_UNSIGNED_INTEGER
    CORE_NULL = 0
    CORE_LOW_REPR_SATURATION = 1
    CORE_LOW_INSTR_SATURATION = 1
    CORE_HIGH_REPR_SATURATION = 255
    CORE_HIGH_INSTR_SATURATION = 255
  END_OBJECT = IMAGE
END_OBJECT = UNCOMPRESSED_FILE
END
