PDS_VERSION_ID = PDS3
/* Identification Information */
DATA_SET_ID = "MRO-M-CTX-HiROC-V1.0"
PRODUCT_ID = "V14_085425_2254_XI_45N320W"
PRODUCER_INSTITUTION_NAME = "UNIVERSITY OF ARIZONA"
PRDOUCER_ID = "UA"
PRODUCER_FULL_NAME = "ALFRED MCEWEN"
SOURCE_PRODUCT_ID = NULL
MISSION_NAME = "MARS RECONNAISSANCE ORBITER"
SPACECRAFT_NAME = "MARS RECONNAISSANCE ORBITER"
INSTRUMENT_NAME = "CONTEXT CAMERA"
INSTRUMENT_ID = "MRO-CTX"
TARGET_NAME = "MARS"
START_TIME = "2024-10-16T16:10:30.016"
ORBIT_NUMBER = 85425
SPACECRAFT_CLOCK_START_COUNT = "1413562290:201"
PRODUCT_CREATION_TIME = 2025-06-05T20:33:28
SOFTWARE_NAME = "CTX_Finalizer (1.10 2020/04/29 05:19:10)"
NOTE = "Special map product for HiROC"
OBJECT = IMAGE_MAP_PROJECTION
  MAP_PROJECTION_TYPE = "EQUIRECTANGULAR"
  PROJECTION_LATITUDE_TYPE = PLANETOCENTRIC
  A_AXIS_RADIUS = 3396.19
  B_AXIS_RADIUS = 3396.19
  C_AXIS_RADIUS = 3376.2
  FIRST_STANDARD_PARALLEL = "N/A"
  SECOND_STANDARD_PARALLEL = "N/A"
  COORDINATE_SYSTEM_NAME = PLANETOCENTRIC
  POSITIVE_LONGITUDE_DIRECTION = EAST
  KEYWORD_LATITUDE_TYPE = PLANETOCENTRIC
  CENTER_LATITUDE = 45
  CENTER_LONGITUDE = 39.738745963182
  LINE_FIRST_PIXEL = 1
  LINE_LAST_PIXEL = 8745
  SAMPLE_FIRST_PIXEL = 1
  SAMPLE_LAST_PIXEL = 3928
  MAP_PROJECTION_ROTATION = 0.0
  MAP_RESOLUTION = 5909.9479504074
  MAP_SCALE = 0.01
  MAXIMUM_LATITUDE = 45.878972430569
  MINIMUM_LATITUDE = 44.399310738624
  EASTERNMOST_LONGITUDE = 40.208680213471
  WESTERNMOST_LONGITUDE = 39.268811712894
  LINE_PROJECTION_OFFSET = 271142.5
  SAMPLE_PROJECTION_OFFSET = 1963.5
END_OBJECT = IMAGE_MAP_PROJECTION
/* The JPEG2000 image data file associated with this label. */
OBJECT = COMPRESSED_FILE
  FILE_NAME = "V14_085425_2254_XI_45N320W.JP2"
  RECORD_TYPE = UNDEFINED
  ENCODING_TYPE = "JP2"
  ENCODING_TYPE_VERSION_NAME = "ISO/IEC15444-1:2004"
  INTERCHANGE_FORMAT = BINARY
  /* The name of the original source file. */
  UNCOMPRESSED_FILE_NAME = "V14_085425_2254_XI_45N320W.4589.img"
  /* The amount of original image data. */
  REQUIRED_STORAGE_BYTES = 34350360
  ^DESCRIPTION = "JP2INFO.TXT"
END_OBJECT = COMPRESSED_FILE
/* The source image data definition. */
OBJECT = UNCOMPRESSED_FILE
  FILE_NAME = "V14_085425_2254_XI_45N320W.4589.img"
  RECORD_TYPE = FIXED_LENGTH
  RECORD_BYTES = 3928
  FILE_RECORDS = 8745
  ^IMAGE = "V14_085425_2254_XI_45N320W.4589.img"
  OBJECT = IMAGE
    LINES = 8745
    LINE_SAMPLES = 3928
    BANDS = 1
    CENTER_FILTER_WAVELENGTH = 0.65
    BANDWIDTH = 0.15
    BAND_STORAGE_TYPE = BAND_SEQUENTIAL
    OFFSET = 0.057042642740919
    SCALING_FACTOR = 7.86266971280518e-04
    SAMPLE_BITS = 8
    SAMPLE_BIT_MASK = 2#11111111#
    SAMPLE_TYPE = MSB_UNSIGNED_INTEGER
    CORE_NULL = 0
    CORE_LOW_REPR_SATURATION = 1
    CORE_LOW_INSTR_SATURATION = 1
    CORE_HIGH_REPR_SATURATION = 255
    CORE_HIGH_INSTR_SATURATION = 255
  END_OBJECT = IMAGE
END_OBJECT = UNCOMPRESSED_FILE
END
