PDS_VERSION_ID = PDS3
/* Identification Information */
DATA_SET_ID = "MRO-M-CTX-HiROC-V1.0"
PRODUCT_ID = "V13_084909_1187_XN_61S258W"
PRODUCER_INSTITUTION_NAME = "UNIVERSITY OF ARIZONA"
PRDOUCER_ID = "UA"
PRODUCER_FULL_NAME = "ALFRED MCEWEN"
SOURCE_PRODUCT_ID = NULL
MISSION_NAME = "MARS RECONNAISSANCE ORBITER"
SPACECRAFT_NAME = "MARS RECONNAISSANCE ORBITER"
INSTRUMENT_NAME = "CONTEXT CAMERA"
INSTRUMENT_ID = "MRO-CTX"
TARGET_NAME = "MARS"
START_TIME = "2024-09-06T10:43:48.223"
ORBIT_NUMBER = 84909
SPACECRAFT_CLOCK_START_COUNT = "1410086688:224"
PRODUCT_CREATION_TIME = 2025-06-03T00:14:24
SOFTWARE_NAME = "CTX_Finalizer (1.10 2020/04/29 05:19:10)"
NOTE = "Special map product for HiROC"
OBJECT = IMAGE_MAP_PROJECTION
  MAP_PROJECTION_TYPE = "EQUIRECTANGULAR"
  PROJECTION_LATITUDE_TYPE = PLANETOCENTRIC
  A_AXIS_RADIUS = 3396.19
  B_AXIS_RADIUS = 3396.19
  C_AXIS_RADIUS = 3376.2
  FIRST_STANDARD_PARALLEL = "N/A"
  SECOND_STANDARD_PARALLEL = "N/A"
  COORDINATE_SYSTEM_NAME = PLANETOCENTRIC
  POSITIVE_LONGITUDE_DIRECTION = EAST
  KEYWORD_LATITUDE_TYPE = PLANETOCENTRIC
  CENTER_LATITUDE = -60
  CENTER_LONGITUDE = 101.49443619577
  LINE_FIRST_PIXEL = 1
  LINE_LAST_PIXEL = 9281
  SAMPLE_FIRST_PIXEL = 1
  SAMPLE_LAST_PIXEL = 6326
  MAP_PROJECTION_ROTATION = 0.0
  MAP_RESOLUTION = 11802.490237201
  MAP_SCALE = 0.005
  MAXIMUM_LATITUDE = -60.619879282553
  MINIMUM_LATITUDE = -61.406222438903
  EASTERNMOST_LONGITUDE = 102.03039781393
  WESTERNMOST_LONGITUDE = 100.95847457762
  LINE_PROJECTION_OFFSET = -715465.5
  SAMPLE_PROJECTION_OFFSET = 3162.5
END_OBJECT = IMAGE_MAP_PROJECTION
/* The JPEG2000 image data file associated with this label. */
OBJECT = COMPRESSED_FILE
  FILE_NAME = "V13_084909_1187_XN_61S258W.JP2"
  RECORD_TYPE = UNDEFINED
  ENCODING_TYPE = "JP2"
  ENCODING_TYPE_VERSION_NAME = "ISO/IEC15444-1:2004"
  INTERCHANGE_FORMAT = BINARY
  /* The name of the original source file. */
  UNCOMPRESSED_FILE_NAME = "V13_084909_1187_XN_61S258W.25285.img"
  /* The amount of original image data. */
  REQUIRED_STORAGE_BYTES = 58711606
  ^DESCRIPTION = "JP2INFO.TXT"
END_OBJECT = COMPRESSED_FILE
/* The source image data definition. */
OBJECT = UNCOMPRESSED_FILE
  FILE_NAME = "V13_084909_1187_XN_61S258W.25285.img"
  RECORD_TYPE = FIXED_LENGTH
  RECORD_BYTES = 6326
  FILE_RECORDS = 9281
  ^IMAGE = "V13_084909_1187_XN_61S258W.25285.img"
  OBJECT = IMAGE
    LINES = 9281
    LINE_SAMPLES = 6326
    BANDS = 1
    CENTER_FILTER_WAVELENGTH = 0.65
    BANDWIDTH = 0.15
    BAND_STORAGE_TYPE = BAND_SEQUENTIAL
    OFFSET = 0.097022774275911
    SCALING_FACTOR = 6.68430464254735e-05
    SAMPLE_BITS = 8
    SAMPLE_BIT_MASK = 2#11111111#
    SAMPLE_TYPE = MSB_UNSIGNED_INTEGER
    CORE_NULL = 0
    CORE_LOW_REPR_SATURATION = 1
    CORE_LOW_INSTR_SATURATION = 1
    CORE_HIGH_REPR_SATURATION = 255
    CORE_HIGH_INSTR_SATURATION = 255
  END_OBJECT = IMAGE
END_OBJECT = UNCOMPRESSED_FILE
END
