PDS_VERSION_ID = PDS3
/* Identification Information */
DATA_SET_ID = "MRO-M-CTX-HiROC-V1.0"
PRODUCT_ID = "U14_076540_1760_XN_04S026W"
PRODUCER_INSTITUTION_NAME = "UNIVERSITY OF ARIZONA"
PRDOUCER_ID = "UA"
PRODUCER_FULL_NAME = "ALFRED MCEWEN"
SOURCE_PRODUCT_ID = NULL
MISSION_NAME = "MARS RECONNAISSANCE ORBITER"
SPACECRAFT_NAME = "MARS RECONNAISSANCE ORBITER"
INSTRUMENT_NAME = "CONTEXT CAMERA"
INSTRUMENT_ID = "MRO-CTX"
TARGET_NAME = "MARS"
START_TIME = "2022-11-24T08:10:00.739"
ORBIT_NUMBER = 76540
SPACECRAFT_CLOCK_START_COUNT = "1353744659:140"
PRODUCT_CREATION_TIME = 2023-06-08T23:20:51
SOFTWARE_NAME = "CTX_Finalizer (1.10 2020/04/29 05:19:10)"
NOTE = "Special map product for HiROC"
OBJECT = IMAGE_MAP_PROJECTION
  MAP_PROJECTION_TYPE = "EQUIRECTANGULAR"
  PROJECTION_LATITUDE_TYPE = PLANETOCENTRIC
  A_AXIS_RADIUS = 3396.19 <KM>
  B_AXIS_RADIUS = 3396.19 <KM>
  C_AXIS_RADIUS = 3376.2 <KM>
  FIRST_STANDARD_PARALLEL = "N/A"
  SECOND_STANDARD_PARALLEL = "N/A"
  COORDINATE_SYSTEM_NAME = PLANETOCENTRIC
  POSITIVE_LONGITUDE_DIRECTION = EAST
  KEYWORD_LATITUDE_TYPE = PLANETOCENTRIC
  CENTER_LATITUDE = 0 <DEG>
  CENTER_LONGITUDE = 333.23934271811 <DEG>
  LINE_FIRST_PIXEL = 1
  LINE_LAST_PIXEL = 9171
  SAMPLE_FIRST_PIXEL = 1
  SAMPLE_LAST_PIXEL = 6403
  MAP_PROJECTION_ROTATION = 0.0 <DEG>
  MAP_RESOLUTION = 11854.939504661 <PIX/DEG>
  MAP_SCALE = 0.005 <KM/PIXEL>
  MAXIMUM_LATITUDE = -3.6759256553323 <DEG>
  MINIMUM_LATITUDE = -4.4494222941485 <DEG>
  EASTERNMOST_LONGITUDE = 333.5093913935 <DEG>
  WESTERNMOST_LONGITUDE = 332.96929404272 <DEG>
  LINE_PROJECTION_OFFSET = -43577.5 <PIXEL>
  SAMPLE_PROJECTION_OFFSET = 3201.5 <PIXEL>
END_OBJECT = IMAGE_MAP_PROJECTION
/* The JPEG2000 image data file associated with this label. */
OBJECT = COMPRESSED_FILE
  FILE_NAME = "U14_076540_1760_XN_04S026W.JP2"
  RECORD_TYPE = UNDEFINED
  ENCODING_TYPE = "JP2"
  ENCODING_TYPE_VERSION_NAME = "ISO/IEC15444-1:2004"
  INTERCHANGE_FORMAT = BINARY
  /* The name of the original source file. */
  UNCOMPRESSED_FILE_NAME = "U14_076540_1760_XN_04S026W.32572.img"
  /* The amount of original image data. */
  REQUIRED_STORAGE_BYTES = 58721913 <BYTES>
  ^DESCRIPTION = "JP2INFO.TXT"
END_OBJECT = COMPRESSED_FILE
/* The source image data definition. */
OBJECT = UNCOMPRESSED_FILE
  FILE_NAME = "U14_076540_1760_XN_04S026W.32572.img"
  RECORD_TYPE = FIXED_LENGTH
  RECORD_BYTES = 6403 <BYTES>
  FILE_RECORDS = 9171
  ^IMAGE = "U14_076540_1760_XN_04S026W.32572.img"
  OBJECT = IMAGE
    LINES = 9171
    LINE_SAMPLES = 6403
    BANDS = 1
    CENTER_FILTER_WAVELENGTH = 0.65 <micrometers>
    BANDWIDTH = 0.15 <micrometers>
    BAND_STORAGE_TYPE = BAND_SEQUENTIAL
    OFFSET = 0.097396096645506
    SCALING_FACTOR = 2.44783450654606e-04
    SAMPLE_BITS = 8
    SAMPLE_BIT_MASK = 2#11111111#
    SAMPLE_TYPE = MSB_UNSIGNED_INTEGER
    CORE_NULL = 0
    CORE_LOW_REPR_SATURATION = 1
    CORE_LOW_INSTR_SATURATION = 1
    CORE_HIGH_REPR_SATURATION = 255
    CORE_HIGH_INSTR_SATURATION = 255
  END_OBJECT = IMAGE
END_OBJECT = UNCOMPRESSED_FILE
END
