PDS_VERSION_ID = PDS3
/* Identification Information */
DATA_SET_ID = "MRO-M-CTX-HiROC-V1.0"
PRODUCT_ID = "N04_063906_1723_XN_07S048W"
PRODUCER_INSTITUTION_NAME = "UNIVERSITY OF ARIZONA"
PRDOUCER_ID = "UA"
PRODUCER_FULL_NAME = "ALFRED MCEWEN"
SOURCE_PRODUCT_ID = NULL
MISSION_NAME = "MARS RECONNAISSANCE ORBITER"
SPACECRAFT_NAME = "MARS RECONNAISSANCE ORBITER"
INSTRUMENT_NAME = "CONTEXT CAMERA"
INSTRUMENT_ID = "MRO-CTX"
TARGET_NAME = "MARS"
START_TIME = "2020-03-15T01:30:08.486"
ORBIT_NUMBER = 63906
SPACECRAFT_CLOCK_START_COUNT = "1268703060:197"
PRODUCT_CREATION_TIME = 2020-12-26T14:24:59
SOFTWARE_NAME = "CTX_Finalizer (1.8 2012/07/11 19:12:08)"
NOTE = "Special map product for HiROC"
OBJECT = IMAGE_MAP_PROJECTION
  MAP_PROJECTION_TYPE = "EQUIRECTANGULAR"
  PROJECTION_LATITUDE_TYPE = PLANETOCENTRIC
  A_AXIS_RADIUS = 3396.19 <KM>
  B_AXIS_RADIUS = 3396.19 <KM>
  C_AXIS_RADIUS = 3376.2 <KM>
  FIRST_STANDARD_PARALLEL = "N/A"
  SECOND_STANDARD_PARALLEL = "N/A"
  COORDINATE_SYSTEM_NAME = PLANETOCENTRIC
  POSITIVE_LONGITUDE_DIRECTION = EAST
  KEYWORD_LATITUDE_TYPE = PLANETOCENTRIC
  CENTER_LATITUDE = -5 <DEG>
  CENTER_LONGITUDE = 311.9129739609 <DEG>
  LINE_FIRST_PIXEL = 1
  LINE_LAST_PIXEL = 6739
  SAMPLE_FIRST_PIXEL = 1
  SAMPLE_LAST_PIXEL = 6045
  MAP_PROJECTION_ROTATION = 0.0 <DEG>
  MAP_RESOLUTION = 11854.404779769 <PIX/DEG>
  MAP_SCALE = 0.005 <KM/PIXEL>
  MAXIMUM_LATITUDE = -7.3979410169745 <DEG>
  MINIMUM_LATITUDE = -7.966411820597 <DEG>
  EASTERNMOST_LONGITUDE = 312.16888497909 <DEG>
  WESTERNMOST_LONGITUDE = 311.65706294271 <DEG>
  LINE_PROJECTION_OFFSET = -87697.5 <PIXEL>
  SAMPLE_PROJECTION_OFFSET = 3023.5 <PIXEL>
END_OBJECT = IMAGE_MAP_PROJECTION
/* The JPEG2000 image data file associated with this label. */
OBJECT = COMPRESSED_FILE
  FILE_NAME = "N04_063906_1723_XN_07S048W.JP2"
  RECORD_TYPE = UNDEFINED
  ENCODING_TYPE = "JP2"
  ENCODING_TYPE_VERSION_NAME = "ISO/IEC15444-1:2004"
  INTERCHANGE_FORMAT = BINARY
  /* The name of the original source file. */
  UNCOMPRESSED_FILE_NAME = "N04_063906_1723_XN_07S048W.27848.img"
  /* The amount of original image data. */
  REQUIRED_STORAGE_BYTES = 40737255 <BYTES>
  ^DESCRIPTION = "JP2INFO.TXT"
END_OBJECT = COMPRESSED_FILE
/* The source image data definition. */
OBJECT = UNCOMPRESSED_FILE
  FILE_NAME = "N04_063906_1723_XN_07S048W.27848.img"
  RECORD_TYPE = FIXED_LENGTH
  RECORD_BYTES = 6045 <BYTES>
  FILE_RECORDS = 6739
  ^IMAGE = "N04_063906_1723_XN_07S048W.27848.img"
  OBJECT = IMAGE
    LINES = 6739
    LINE_SAMPLES = 6045
    BANDS = 1
    CENTER_FILTER_WAVELENGTH = 0.65 <micrometers>
    BANDWIDTH = 0.15 <micrometers>
    BAND_STORAGE_TYPE = BAND_SEQUENTIAL
    OFFSET = 0.062579166788404
    SCALING_FACTOR = 2.56614104350077e-04
    SAMPLE_BITS = 8
    SAMPLE_BIT_MASK = 2#11111111#
    SAMPLE_TYPE = MSB_UNSIGNED_INTEGER
    CORE_NULL = 0
    CORE_LOW_REPR_SATURATION = 1
    CORE_LOW_INSTR_SATURATION = 1
    CORE_HIGH_REPR_SATURATION = 255
    CORE_HIGH_INSTR_SATURATION = 255
  END_OBJECT = IMAGE
END_OBJECT = UNCOMPRESSED_FILE
END
