PDS_VERSION_ID = PDS3
/* Identification Information */
DATA_SET_ID = "MRO-M-CTX-HiROC-V1.0"
PRODUCT_ID = "F02_036603_2613_XN_81N254W"
PRODUCER_INSTITUTION_NAME = "UNIVERSITY OF ARIZONA"
PRDOUCER_ID = "UA"
PRODUCER_FULL_NAME = "ALFRED MCEWEN"
SOURCE_PRODUCT_ID = NULL
MISSION_NAME = "MARS RECONNAISSANCE ORBITER"
SPACECRAFT_NAME = "MARS RECONNAISSANCE ORBITER"
INSTRUMENT_NAME = "CONTEXT CAMERA"
INSTRUMENT_ID = "MRO-CTX"
TARGET_NAME = "MARS"
START_TIME = "2014-05-18T15:56:38.688"
ORBIT_NUMBER = 36603
SPACECRAFT_CLOCK_START_COUNT = "1084895836:116"
PRODUCT_CREATION_TIME = 2014-12-18T21:43:15
SOFTWARE_NAME = "CTX_Finalizer (1.8 2012/07/11 19:12:08)"
NOTE = "Special map product for HiROC"
OBJECT = IMAGE_MAP_PROJECTION
  MAP_PROJECTION_TYPE = "POLAR STEREOGRAPHIC"
  PROJECTION_LATITUDE_TYPE = PLANETOCENTRIC
  A_AXIS_RADIUS = 3396.19 <KM>
  B_AXIS_RADIUS = 3396.19 <KM>
  C_AXIS_RADIUS = 3376.2 <KM>
  FIRST_STANDARD_PARALLEL = "N/A"
  SECOND_STANDARD_PARALLEL = "N/A"
  COORDINATE_SYSTEM_NAME = PLANETOCENTRIC
  POSITIVE_LONGITUDE_DIRECTION = EAST
  KEYWORD_LATITUDE_TYPE = PLANETOCENTRIC
  CENTER_LATITUDE = 90.0 <DEG>
  CENTER_LONGITUDE = 0.0 <DEG>
  LINE_FIRST_PIXEL = 1
  LINE_LAST_PIXEL = 9976
  SAMPLE_FIRST_PIXEL = 1
  SAMPLE_LAST_PIXEL = 10526
  MAP_PROJECTION_ROTATION = 0.0 <DEG>
  MAP_RESOLUTION = 11785.161241167 <PIX/DEG>
  MAP_SCALE = 0.005 <KM/PIXEL>
  MAXIMUM_LATITUDE = 81.715856586301 <DEG>
  MINIMUM_LATITUDE = 80.8721844265 <DEG>
  EASTERNMOST_LONGITUDE = 107.93034862437 <DEG>
  WESTERNMOST_LONGITUDE = 103.07997578508 <DEG>
  LINE_PROJECTION_OFFSET = 32585.5 <PIXEL>
  SAMPLE_PROJECTION_OFFSET = -93748.5 <PIXEL>
END_OBJECT = IMAGE_MAP_PROJECTION
/* The JPEG2000 image data file associated with this label. */
OBJECT = COMPRESSED_FILE
  FILE_NAME = "F02_036603_2613_XN_81N254W.JP2"
  RECORD_TYPE = UNDEFINED
  ENCODING_TYPE = "JP2"
  ENCODING_TYPE_VERSION_NAME = "ISO/IEC15444-1:2004"
  INTERCHANGE_FORMAT = BINARY
  /* The name of the original source file. */
  UNCOMPRESSED_FILE_NAME = "F02_036603_2613_XN_81N254W.15284.img"
  /* The amount of original image data. */
  REQUIRED_STORAGE_BYTES = 105007376 <BYTES>
  ^DESCRIPTION = "JP2INFO.TXT"
END_OBJECT = COMPRESSED_FILE
/* The source image data definition. */
OBJECT = UNCOMPRESSED_FILE
  FILE_NAME = "F02_036603_2613_XN_81N254W.15284.img"
  RECORD_TYPE = FIXED_LENGTH
  RECORD_BYTES = 10526 <BYTES>
  FILE_RECORDS = 9976
  ^IMAGE = "F02_036603_2613_XN_81N254W.15284.img"
  OBJECT = IMAGE
    LINES = 9976
    LINE_SAMPLES = 10526
    BANDS = 1
    CENTER_FILTER_WAVELENGTH = 0.65 <micrometers>
    BANDWIDTH = 0.15 <micrometers>
    BAND_STORAGE_TYPE = BAND_SEQUENTIAL
    OFFSET = 0.045576303550047
    SCALING_FACTOR = 2.99369355727986e-04
    SAMPLE_BITS = 8
    SAMPLE_BIT_MASK = 2#11111111#
    SAMPLE_TYPE = MSB_UNSIGNED_INTEGER
    CORE_NULL = 0
    CORE_LOW_REPR_SATURATION = 1
    CORE_LOW_INSTR_SATURATION = 1
    CORE_HIGH_REPR_SATURATION = 255
    CORE_HIGH_INSTR_SATURATION = 255
  END_OBJECT = IMAGE
END_OBJECT = UNCOMPRESSED_FILE
END
