PDS_VERSION_ID = PDS3
/* Identification Information */
DATA_SET_ID = "MRO-M-CTX-HiROC-V1.0"
PRODUCT_ID = "G05_020003_1625_XN_17S270W"
PRODUCER_INSTITUTION_NAME = "UNIVERSITY OF ARIZONA"
PRDOUCER_ID = "UA"
PRODUCER_FULL_NAME = "ALFRED MCEWEN"
SOURCE_PRODUCT_ID = NULL
MISSION_NAME = "MARS RECONNAISSANCE ORBITER"
SPACECRAFT_NAME = "MARS RECONNAISSANCE ORBITER"
INSTRUMENT_NAME = "CONTEXT CAMERA"
INSTRUMENT_ID = "MRO-CTX"
TARGET_NAME = "Mars"
START_TIME = "2010-11-02T03:29:08.197"
ORBIT_NUMBER = 20003
SPACECRAFT_CLOCK_START_COUNT = "0973135779:206"
PRODUCT_CREATION_TIME = 2012-05-03T16:00:56
SOFTWARE_NAME = "CTX_Finalizer (1.7 2011/06/20 22:58:41)"
NOTE = "Special map product for HiROC"
OBJECT = IMAGE_MAP_PROJECTION
  MAP_PROJECTION_TYPE = "EQUIRECTANGULAR"
  PROJECTION_LATITUDE_TYPE = PLANETOCENTRIC
  A_AXIS_RADIUS = 3396.19 <KM>
  B_AXIS_RADIUS = 3396.19 <KM>
  C_AXIS_RADIUS = 3376.2 <KM>
  FIRST_STANDARD_PARALLEL = "N/A"
  SECOND_STANDARD_PARALLEL = "N/A"
  COORDINATE_SYSTEM_NAME = PLANETOCENTRIC
  POSITIVE_LONGITUDE_DIRECTION = EAST
  KEYWORD_LATITUDE_TYPE = PLANETOCENTRIC
  CENTER_LATITUDE = -15 <DEG>
  CENTER_LONGITUDE = 0.0 <DEG>
  LINE_FIRST_PIXEL = 1
  LINE_LAST_PIXEL = 12835
  SAMPLE_FIRST_PIXEL = 1
  SAMPLE_LAST_PIXEL = 6690
  MAP_PROJECTION_ROTATION = 0.0 <DEG>
  MAP_RESOLUTION = 11850.226464032 <PIX/DEG>
  MAP_SCALE = 0.005 <KM/PIXEL>
  MAXIMUM_LATITUDE = -16.801599379852 <DEG>
  MINIMUM_LATITUDE = -17.884655736811 <DEG>
  EASTERNMOST_LONGITUDE = 90.216657137199 <DEG>
  WESTERNMOST_LONGITUDE = 89.632245223735 <DEG>
  LINE_PROJECTION_OFFSET = -199101.5 <PIXEL>
  SAMPLE_PROJECTION_OFFSET = -1025969.5 <PIXEL>
END_OBJECT = IMAGE_MAP_PROJECTION
/* The JPEG2000 image data file associated with this label. */
OBJECT = COMPRESSED_FILE
  FILE_NAME = "G05_020003_1625_XN_17S270W.JP2"
  RECORD_TYPE = UNDEFINED
  ENCODING_TYPE = "JP2"
  ENCODING_TYPE_VERSION_NAME = "ISO/IEC15444-1:2004"
  INTERCHANGE_FORMAT = BINARY
  /* The name of the original source file. */
  UNCOMPRESSED_FILE_NAME = "G05_020003_1625_XN_17S270W.7473.img"
  /* The amount of original image data. */
  REQUIRED_STORAGE_BYTES = 85866150 <BYTES>
  ^DESCRIPTION = "JP2INFO.TXT"
END_OBJECT = COMPRESSED_FILE
/* The source image data definition. */
OBJECT = UNCOMPRESSED_FILE
  FILE_NAME = "G05_020003_1625_XN_17S270W.7473.img"
  RECORD_TYPE = FIXED_LENGTH
  RECORD_BYTES = 6690 <BYTES>
  FILE_RECORDS = 12835
  ^IMAGE = "G05_020003_1625_XN_17S270W.7473.img"
  OBJECT = IMAGE
    LINES = 12835
    LINE_SAMPLES = 6690
    BANDS = 1
    CENTER_FILTER_WAVELENGTH = 0.65 <micrometers>
    BANDWIDTH = 0.15 <micrometers>
    BAND_STORAGE_TYPE = BAND_SEQUENTIAL
    OFFSET = 0.043335084257515
    SCALING_FACTOR = 1.82242753039572e-04
    SAMPLE_BITS = 8
    SAMPLE_BIT_MASK = 2#11111111#
    SAMPLE_TYPE = MSB_UNSIGNED_INTEGER
    CORE_NULL = 0
    CORE_LOW_REPR_SATURATION = 1
    CORE_LOW_INSTR_SATURATION = 1
    CORE_HIGH_REPR_SATURATION = 255
    CORE_HIGH_INSTR_SATURATION = 255
  END_OBJECT = IMAGE
END_OBJECT = UNCOMPRESSED_FILE
END
