PDS_VERSION_ID = PDS3
/* Identification Information */
DATA_SET_ID = "MRO-M-CTX-HiROC-V1.0"
PRODUCT_ID = "B18_016820_1718_XN_08S129W"
PRODUCER_INSTITUTION_NAME = "UNIVERSITY OF ARIZONA"
PRDOUCER_ID = "UA"
PRODUCER_FULL_NAME = "ALFRED MCEWEN"
SOURCE_PRODUCT_ID = NULL
MISSION_NAME = "MARS RECONNAISSANCE ORBITER"
SPACECRAFT_NAME = "MARS RECONNAISSANCE ORBITER"
INSTRUMENT_NAME = "CONTEXT CAMERA"
INSTRUMENT_ID = "MRO-CTX"
TARGET_NAME = "Mars"
START_TIME = "2010-02-27T02:55:35.278"
ORBIT_NUMBER = 16820
SPACECRAFT_CLOCK_START_COUNT = "0951706566:026"
PRODUCT_CREATION_TIME = 2012-02-24T10:31:41
SOFTWARE_NAME = "CTX_Finalizer (1.7 2011/06/20 22:58:41)"
NOTE = "Special map product for HiROC"
OBJECT = IMAGE_MAP_PROJECTION
MAP_PROJECTION_TYPE = "EQUIRECTANGULAR"
PROJECTION_LATITUDE_TYPE = PLANETOCENTRIC
A_AXIS_RADIUS = 3396.19 <KM>
B_AXIS_RADIUS = 3396.19 <KM>
C_AXIS_RADIUS = 3376.2 <KM>
FIRST_STANDARD_PARALLEL = "N/A"
SECOND_STANDARD_PARALLEL = "N/A"
COORDINATE_SYSTEM_NAME = PLANETOCENTRIC
POSITIVE_LONGITUDE_DIRECTION = EAST
KEYWORD_LATITUDE_TYPE = PLANETOCENTRIC
CENTER_LATITUDE = -5 <DEG>
CENTER_LONGITUDE = 0.0 <DEG>
LINE_FIRST_PIXEL = 1
LINE_LAST_PIXEL = 17409
SAMPLE_FIRST_PIXEL = 1
SAMPLE_LAST_PIXEL = 4559
MAP_PROJECTION_ROTATION = 0.0 <DEG>
MAP_RESOLUTION = 11854.404779769 <PIX/DEG>
MAP_SCALE = 0.005 <KM/PIXEL>
MAXIMUM_LATITUDE = -7.44873369189 <DEG>
MINIMUM_LATITUDE = -8.9172503328087 <DEG>
EASTERNMOST_LONGITUDE = 230.55866903479 <DEG>
WESTERNMOST_LONGITUDE = 230.17264661137 <DEG>
LINE_PROJECTION_OFFSET = -88299.5 <PIXEL>
SAMPLE_PROJECTION_OFFSET = -2718175.5 <PIXEL>
END_OBJECT = IMAGE_MAP_PROJECTION
/* The JPEG2000 image data file associated with this label. */
OBJECT = COMPRESSED_FILE
FILE_NAME = "B18_016820_1718_XN_08S129W.JP2"
RECORD_TYPE = UNDEFINED
ENCODING_TYPE = "JP2"
ENCODING_TYPE_VERSION_NAME = "ISO/IEC15444-1:2004"
INTERCHANGE_FORMAT = BINARY
/* The name of the original source file. */
UNCOMPRESSED_FILE_NAME = "B18_016820_1718_XN_08S129W.17339.img"
/* The amount of original image data. */
REQUIRED_STORAGE_BYTES = 79367631 <BYTES>
^DESCRIPTION = "JP2INFO.TXT"
END_OBJECT = COMPRESSED_FILE
/* The source image data definition. */
OBJECT = UNCOMPRESSED_FILE
FILE_NAME = "B18_016820_1718_XN_08S129W.17339.img"
RECORD_TYPE = FIXED_LENGTH
RECORD_BYTES = 4559 <BYTES>
FILE_RECORDS = 17409
^IMAGE = "B18_016820_1718_XN_08S129W.17339.img"
OBJECT = IMAGE
LINES = 17409
LINE_SAMPLES = 4559
BANDS = 1
CENTER_FILTER_WAVELENGTH = 0.65 <micrometers>
BANDWIDTH = 0.15 <micrometers>
BAND_STORAGE_TYPE = BAND_SEQUENTIAL
OFFSET = 0.059528326357043
SCALING_FACTOR = 4.84813437068512e-04
SAMPLE_BITS = 8
SAMPLE_BIT_MASK = 2#11111111#
SAMPLE_TYPE = MSB_UNSIGNED_INTEGER
CORE_NULL = 0
CORE_LOW_REPR_SATURATION = 1
CORE_LOW_INSTR_SATURATION = 1
CORE_HIGH_REPR_SATURATION = 255
CORE_HIGH_INSTR_SATURATION = 255
END_OBJECT = IMAGE
END_OBJECT = UNCOMPRESSED_FILE
END