PDS_VERSION_ID = PDS3
/* Identification Information */
DATA_SET_ID = "MRO-M-CTX-HiROC-V1.0"
PRODUCT_ID = "B05_011691_1997_XN_19N147W"
PRODUCER_INSTITUTION_NAME = "UNIVERSITY OF ARIZONA"
PRDOUCER_ID = "UA"
PRODUCER_FULL_NAME = "ALFRED MCEWEN"
SOURCE_PRODUCT_ID = NULL
MISSION_NAME = "MARS RECONNAISSANCE ORBITER"
SPACECRAFT_NAME = "MARS RECONNAISSANCE ORBITER"
INSTRUMENT_NAME = "CONTEXT CAMERA"
INSTRUMENT_ID = "MRO-CTX"
TARGET_NAME = "Mars"
START_TIME = "2009-01-23T11:28:58.011"
ORBIT_NUMBER = 11691
SPACECRAFT_CLOCK_START_COUNT = "0917177359:152"
PRODUCT_CREATION_TIME = 2011-11-30T23:20:20
SOFTWARE_NAME = "CTX_Finalizer (1.7 2011/06/20 22:58:41)"
NOTE = "Special map product for HiROC"
OBJECT = IMAGE_MAP_PROJECTION
  MAP_PROJECTION_TYPE = "EQUIRECTANGULAR"
  PROJECTION_LATITUDE_TYPE = PLANETOCENTRIC
  A_AXIS_RADIUS = 3396.19 <KM>
  B_AXIS_RADIUS = 3396.19 <KM>
  C_AXIS_RADIUS = 3376.2 <KM>
  FIRST_STANDARD_PARALLEL = "N/A"
  SECOND_STANDARD_PARALLEL = "N/A"
  COORDINATE_SYSTEM_NAME = PLANETOCENTRIC
  POSITIVE_LONGITUDE_DIRECTION = EAST
  KEYWORD_LATITUDE_TYPE = PLANETOCENTRIC
  CENTER_LATITUDE = 15 <DEG>
  CENTER_LONGITUDE = 0.0 <DEG>
  LINE_FIRST_PIXEL = 1
  LINE_LAST_PIXEL = 9141
  SAMPLE_FIRST_PIXEL = 1
  SAMPLE_LAST_PIXEL = 6786
  MAP_PROJECTION_ROTATION = 0.0 <DEG>
  MAP_RESOLUTION = 11850.226464032 <PIX/DEG>
  MAP_SCALE = 0.005 <KM/PIXEL>
  MAXIMUM_LATITUDE = 19.902616102434 <DEG>
  MINIMUM_LATITUDE = 19.131286259873 <DEG>
  EASTERNMOST_LONGITUDE = 213.24845378246 <DEG>
  WESTERNMOST_LONGITUDE = 212.65565655639 <DEG>
  LINE_PROJECTION_OFFSET = 235851.5 <PIXEL>
  SAMPLE_PROJECTION_OFFSET = -2434149.5 <PIXEL>
END_OBJECT = IMAGE_MAP_PROJECTION
/* The JPEG2000 image data file associated with this label. */
OBJECT = COMPRESSED_FILE
  FILE_NAME = "B05_011691_1997_XN_19N147W.JP2"
  RECORD_TYPE = UNDEFINED
  ENCODING_TYPE = "JP2"
  ENCODING_TYPE_VERSION_NAME = "ISO/IEC15444-1:2004"
  INTERCHANGE_FORMAT = BINARY
  /* The name of the original source file. */
  UNCOMPRESSED_FILE_NAME = "B05_011691_1997_XN_19N147W.29375.img"
  /* The amount of original image data. */
  REQUIRED_STORAGE_BYTES = 62030826 <BYTES>
  ^DESCRIPTION = "JP2INFO.TXT"
END_OBJECT = COMPRESSED_FILE
/* The source image data definition. */
OBJECT = UNCOMPRESSED_FILE
  FILE_NAME = "B05_011691_1997_XN_19N147W.29375.img"
  RECORD_TYPE = FIXED_LENGTH
  RECORD_BYTES = 6786 <BYTES>
  FILE_RECORDS = 9141
  ^IMAGE = "B05_011691_1997_XN_19N147W.29375.img"
  OBJECT = IMAGE
    LINES = 9141
    LINE_SAMPLES = 6786
    BANDS = 1
    CENTER_FILTER_WAVELENGTH = 0.65 <micrometers>
    BANDWIDTH = 0.15 <micrometers>
    BAND_STORAGE_TYPE = BAND_SEQUENTIAL
    OFFSET = 0.069110214147047
    SCALING_FACTOR = 2.86715081304729e-04
    SAMPLE_BITS = 8
    SAMPLE_BIT_MASK = 2#11111111#
    SAMPLE_TYPE = MSB_UNSIGNED_INTEGER
    CORE_NULL = 0
    CORE_LOW_REPR_SATURATION = 1
    CORE_LOW_INSTR_SATURATION = 1
    CORE_HIGH_REPR_SATURATION = 255
    CORE_HIGH_INSTR_SATURATION = 255
  END_OBJECT = IMAGE
END_OBJECT = UNCOMPRESSED_FILE
END
