PDS_VERSION_ID = PDS3
/* Identification Information */
NOT_APPLICABLE_CONSTANT = -9998
DATA_SET_ID = "MRO-M-HIRISE-3-RDR-V1.1"
DATA_SET_NAME = "MRO MARS HIGH RESOLUTION IMAGING SCIENCE EXPERIMENT RDR V1.1"
PRODUCER_INSTITUTION_NAME = "UNIVERSITY OF ARIZONA"
PRODUCER_ID = "UA"
PRODUCER_FULL_NAME = "ALFRED MCEWEN"
OBSERVATION_ID = "ESP_076383_2105"
PRODUCT_ID = "ESP_076383_2105_RED"
PRODUCT_VERSION_ID = "1.0"
INSTRUMENT_HOST_NAME = "MARS RECONNAISSANCE ORBITER"
INSTRUMENT_HOST_ID = "MRO"
INSTRUMENT_NAME = "HIGH RESOLUTION IMAGING SCIENCE EXPERIMENT"
INSTRUMENT_ID = "HIRISE"
TARGET_NAME = "MARS"
MISSION_PHASE_NAME = "EXTENDED SCIENCE PHASE"
ORBIT_NUMBER = 76383
SOURCE_PRODUCT_ID = (ESP_076383_2105_RED0_0, ESP_076383_2105_RED0_1, ESP_076383_2105_RED1_0, ESP_076383_2105_RED1_1, ESP_076383_2105_RED2_0, ESP_076383_2105_RED2_1, ESP_076383_2105_RED3_0, ESP_076383_2105_RED3_1, ESP_076383_2105_RED4_0, ESP_076383_2105_RED4_1, ESP_076383_2105_RED5_0, ESP_076383_2105_RED5_1, ESP_076383_2105_RED6_0, ESP_076383_2105_RED6_1, ESP_076383_2105_RED7_0, ESP_076383_2105_RED7_1, ESP_076383_2105_RED8_0, ESP_076383_2105_RED8_1)
RATIONALE_DESC = "Landforms north of Kasei Valles"
SOFTWARE_NAME = "PDS_to_JP2 v4.5.1 (1.56 2016/09/26 23:05:38)"
OBJECT = IMAGE_MAP_PROJECTION
  ^DATA_SET_MAP_PROJECTION = "DSMAP.CAT"
  MAP_PROJECTION_TYPE = "EQUIRECTANGULAR"
  PROJECTION_LATITUDE_TYPE = PLANETOCENTRIC
  /* NOTE: The EQUIRECTANGULAR projection is based on the formula */
  /* for a sphere. To eliminate confusion in the */
  /* IMAGE_MAP_PROJECTION object we have set all three radii, */
  /* A_AXIS_RADIUS, B_AXIS_RADIUS, and C_AXIS_RADIUS to the same */
  /* number. The value recorded in the three radii is the local */
  /* radius at the CENTER_LATITUDE on the Mars ellipsoid. That is, */
  /* equatorial radius of 3396.190000 km and polar radius of */
  /* 3376.200000 kilometers. Using the local radius of the */
  /* ellipsoid implies that the MAP_SCALE and MAP_RESOLUTION are */
  /* true at the CENTER_LATITUDE. */
  A_AXIS_RADIUS = 3391.1592284034 <KM>
  B_AXIS_RADIUS = 3391.1592284034 <KM>
  C_AXIS_RADIUS = 3391.1592284034 <KM>
  COORDINATE_SYSTEM_NAME = PLANETOCENTRIC
  POSITIVE_LONGITUDE_DIRECTION = EAST
  KEYWORD_LATITUDE_TYPE = PLANETOCENTRIC
  /* NOTE: CENTER_LATITUDE and CENTER_LONGITUDE describe the location */
  /* of the center of projection, which is not necessarily equal to the */
  /* location of the center point of the image. */
  CENTER_LATITUDE = 30.000 <DEG>
  CENTER_LONGITUDE = 180.000 <DEG>
  LINE_FIRST_PIXEL = 1
  LINE_LAST_PIXEL = 45766
  SAMPLE_FIRST_PIXEL = 1
  SAMPLE_LAST_PIXEL = 18670
  MAP_PROJECTION_ROTATION = 0.0 <DEG>
  MAP_RESOLUTION = 118373.78799006 <PIX/DEG>
  MAP_SCALE = 0.5 <METERS/PIXEL>
  MAXIMUM_LATITUDE = 30.627252180299 <DEG>
  MINIMUM_LATITUDE = 30.240633219999 <DEG>
  LINE_PROJECTION_OFFSET = 3625463.5 <PIXEL>
  SAMPLE_PROJECTION_OFFSET = -11462946.5 <PIXEL>
  EASTERNMOST_LONGITUDE = 291.99969995652 <DEG>
  WESTERNMOST_LONGITUDE = 291.81757620881 <DEG>
END_OBJECT = IMAGE_MAP_PROJECTION
/* All xxx_COUNT values are for the MRO spacecraft clock (SCLK) */
/* in seconds:subseconds form. A subsecond tick = 15.2588 microseconds. */
/* All xxx_TIME values are referenced to UTC. */
GROUP = TIME_PARAMETERS
  /* Time when the observation first started */
  MRO:OBSERVATION_START_TIME = 2022-11-12T02:48:43.025
  /* Time of the first image line */
  START_TIME = 2022-11-12T02:48:43.192
  SPACECRAFT_CLOCK_START_COUNT = "1352688581:63750"
  /* Time of the last image line */
  STOP_TIME = 2022-11-12T02:48:50.281
  SPACECRAFT_CLOCK_STOP_COUNT = "1352688589:04025"
  /* Time when this RDR product was created */
  PRODUCT_CREATION_TIME = 2022-11-17T03:26:17
END_GROUP = TIME_PARAMETERS
GROUP = INSTRUMENT_SETTING_PARAMETERS
  MRO:CCD_FLAG = (ON, ON, ON, ON, ON, ON, ON, ON, ON, OFF, ON, ON, ON, ON)
  MRO:BINNING = (2, 2, 2, 2, 2, 2, 2, 2, 2, -9998, -9998, -9998, -9998, -9998)
  MRO:TDI = (32, 32, 32, 32, 32, 32, 32, 32, 32, -9998, -9998, -9998, -9998, -9998)
  MRO:SPECIAL_PROCESSING_FLAG = (NOMINAL, NOMINAL, NOMINAL, NOMINAL, NOMINAL, NOMINAL, NOMINAL, NOMINAL, NOMINAL, "NULL", "NULL", "NULL", "NULL", "NULL")
END_GROUP = INSTRUMENT_SETTING_PARAMETERS
GROUP = VIEWING_PARAMETERS
  INCIDENCE_ANGLE = 50.193533 <DEG>
  EMISSION_ANGLE = 25.486901 <DEG>
  PHASE_ANGLE = 71.030153 <DEG>
  LOCAL_TIME = 14.07977 <LOCALDAY/24>
  SOLAR_LONGITUDE = 337.036816 <DEG>
  SUB_SOLAR_AZIMUTH = 131.965625 <DEG>
  NORTH_AZIMUTH = 270.000000 <DEG>
END_GROUP = VIEWING_PARAMETERS
/* The JPEG2000 image data file associated with this label. */
OBJECT = COMPRESSED_FILE
  FILE_NAME = "ESP_076383_2105_RED.JP2"
  RECORD_TYPE = UNDEFINED
  ENCODING_TYPE = "JP2"
  ENCODING_TYPE_VERSION_NAME = "ISO/IEC15444-1:2004"
  INTERCHANGE_FORMAT = BINARY
  /* The name of the original source file. */
  UNCOMPRESSED_FILE_NAME = "ESP_076383_2105_RED.IMG"
  /* The amount of original image data. */
  REQUIRED_STORAGE_BYTES = 1708902440 <BYTES>
  ^DESCRIPTION = "JP2INFO.TXT"
END_OBJECT = COMPRESSED_FILE
/* The source image data definition. */
OBJECT = UNCOMPRESSED_FILE
  FILE_NAME = "ESP_076383_2105_RED.IMG"
  RECORD_TYPE = FIXED_LENGTH
  RECORD_BYTES = 37340 <BYTES>
  FILE_RECORDS = 45766
  ^IMAGE = "ESP_076383_2105_RED.IMG"
  OBJECT = IMAGE
    DESCRIPTION = "HiRISE projected and mosaicked product"
    LINES = 45766
    LINE_SAMPLES = 18670
    BANDS = 1
    SAMPLE_TYPE = MSB_UNSIGNED_INTEGER
    SAMPLE_BITS = 16
    SAMPLE_BIT_MASK = 2#0000001111111111#
    /* NOTE: The conversion from DN to I/F (intensity/flux) is: */
    /* I/F = (DN * SCALING_FACTOR) + OFFSET */
    /* I/F is defined as the ratio of the observed radiance and */
    /* the radiance of a 100% lambertian reflector with the sun */
    /* and camera orthogonal to the observing surface. */
    SCALING_FACTOR = 9.52197582362711e-05
    OFFSET = 0.097769866603277
    BAND_STORAGE_TYPE = BAND_SEQUENTIAL
    CORE_NULL = 0
    CORE_LOW_REPR_SATURATION = 1
    CORE_LOW_INSTR_SATURATION = 2
    CORE_HIGH_REPR_SATURATION = 1023
    CORE_HIGH_INSTR_SATURATION = 1022
    CENTER_FILTER_WAVELENGTH = 700 <NM>
    MRO:MINIMUM_STRETCH = 3
    MRO:MAXIMUM_STRETCH = 1021
    FILTER_NAME = "RED"
  END_OBJECT = IMAGE
END_OBJECT = UNCOMPRESSED_FILE
END
