PDS_VERSION_ID = PDS3
/* Identification Information */
NOT_APPLICABLE_CONSTANT = -9998
DATA_SET_ID = "MRO-M-HIRISE-3-RDR-V1.1"
DATA_SET_NAME = "MRO MARS HIGH RESOLUTION IMAGING SCIENCE EXPERIMENT RDR V1.1"
PRODUCER_INSTITUTION_NAME = "UNIVERSITY OF ARIZONA"
PRODUCER_ID = "UA"
PRODUCER_FULL_NAME = "ALFRED MCEWEN"
OBSERVATION_ID = "ESP_072223_2565"
PRODUCT_ID = "ESP_072223_2565_RED"
PRODUCT_VERSION_ID = "1.0"
INSTRUMENT_HOST_NAME = "MARS RECONNAISSANCE ORBITER"
INSTRUMENT_HOST_ID = "MRO"
INSTRUMENT_NAME = "HIGH RESOLUTION IMAGING SCIENCE EXPERIMENT"
INSTRUMENT_ID = "HIRISE"
TARGET_NAME = "MARS"
MISSION_PHASE_NAME = "EXTENDED SCIENCE PHASE"
ORBIT_NUMBER = 72223
SOURCE_PRODUCT_ID = (ESP_072223_2565_RED0_0, ESP_072223_2565_RED0_1, ESP_072223_2565_RED1_0, ESP_072223_2565_RED1_1, ESP_072223_2565_RED2_0, ESP_072223_2565_RED2_1, ESP_072223_2565_RED3_0, ESP_072223_2565_RED3_1, ESP_072223_2565_RED4_0, ESP_072223_2565_RED4_1, ESP_072223_2565_RED5_0, ESP_072223_2565_RED5_1, ESP_072223_2565_RED6_0, ESP_072223_2565_RED6_1, ESP_072223_2565_RED7_0, ESP_072223_2565_RED7_1, ESP_072223_2565_RED8_0, ESP_072223_2565_RED8_1)
RATIONALE_DESC = "Dunes with large alcoves dubbed Palma"
SOFTWARE_NAME = "PDS_to_JP2 v4.5.1 (1.56 2016/09/26 23:05:38)"
OBJECT = IMAGE_MAP_PROJECTION
  ^DATA_SET_MAP_PROJECTION = "DSMAP.CAT"
  MAP_PROJECTION_TYPE = "POLAR STEREOGRAPHIC"
  PROJECTION_LATITUDE_TYPE = PLANETOCENTRIC
  A_AXIS_RADIUS = 3396.19 <KM>
  B_AXIS_RADIUS = 3396.19 <KM>
  C_AXIS_RADIUS = 3376.2 <KM>
  COORDINATE_SYSTEM_NAME = PLANETOCENTRIC
  POSITIVE_LONGITUDE_DIRECTION = EAST
  KEYWORD_LATITUDE_TYPE = PLANETOCENTRIC
  /* NOTE: CENTER_LATITUDE and CENTER_LONGITUDE describe the location */
  /* of the center of projection, which is not necessarily equal to the */
  /* location of the center point of the image. */
  CENTER_LATITUDE = 90.000 <DEG>
  CENTER_LONGITUDE = 0.000 <DEG>
  LINE_FIRST_PIXEL = 1
  LINE_LAST_PIXEL = 22253
  SAMPLE_FIRST_PIXEL = 1
  SAMPLE_LAST_PIXEL = 40535
  MAP_PROJECTION_ROTATION = 0.0 <DEG>
  MAP_RESOLUTION = 117851.61241167 <PIX/DEG>
  MAP_SCALE = 0.5 <METERS/PIXEL>
  MAXIMUM_LATITUDE = 76.358019395048 <DEG>
  MINIMUM_LATITUDE = 76.020690028664 <DEG>
  LINE_PROJECTION_OFFSET = 165705.5 <PIXEL>
  SAMPLE_PROJECTION_OFFSET = -1607950.5 <PIXEL>
  EASTERNMOST_LONGITUDE = 95.751678610961 <DEG>
  WESTERNMOST_LONGITUDE = 95.087660751913 <DEG>
END_OBJECT = IMAGE_MAP_PROJECTION
/* All xxx_COUNT values are for the MRO spacecraft clock (SCLK) */
/* in seconds:subseconds form. A subsecond tick = 15.2588 microseconds. */
/* All xxx_TIME values are referenced to UTC. */
GROUP = TIME_PARAMETERS
  /* Time when the observation first started */
  MRO:OBSERVATION_START_TIME = 2021-12-22T23:21:58.235
  /* Time of the first image line */
  START_TIME = 2021-12-22T23:21:58.415
  SPACECRAFT_CLOCK_START_COUNT = "1324682574:64680"
  /* Time of the last image line */
  STOP_TIME = 2021-12-22T23:22:04.633
  SPACECRAFT_CLOCK_STOP_COUNT = "1324682581:13401"
  /* Time when this RDR product was created */
  PRODUCT_CREATION_TIME = 2021-12-30T00:45:01
END_GROUP = TIME_PARAMETERS
GROUP = INSTRUMENT_SETTING_PARAMETERS
  MRO:CCD_FLAG = (ON, ON, ON, ON, ON, ON, ON, ON, ON, OFF, ON, ON, ON, ON)
  MRO:BINNING = (2, 2, 2, 2, 2, 2, 2, 2, 2, -9998, -9998, -9998, -9998, -9998)
  MRO:TDI = (128, 128, 128, 128, 128, 128, 128, 128, 128, -9998, -9998, -9998, -9998, -9998)
  MRO:SPECIAL_PROCESSING_FLAG = (CUBENORM, CUBENORM, CUBENORM, CUBENORM, CUBENORM, CUBENORM, CUBENORM, CUBENORM, CUBENORM, "NULL", "NULL", "NULL", "NULL", "NULL")
END_GROUP = INSTRUMENT_SETTING_PARAMETERS
GROUP = VIEWING_PARAMETERS
  INCIDENCE_ANGLE = 66.973569 <DEG>
  EMISSION_ANGLE = 3.267666 <DEG>
  PHASE_ANGLE = 64.178022 <DEG>
  LOCAL_TIME = 15.04621 <LOCALDAY/24>
  SOLAR_LONGITUDE = 146.052977 <DEG>
  SUB_SOLAR_AZIMUTH = 43.680002 <DEG>
  NORTH_AZIMUTH = 174.580330 <DEG>
END_GROUP = VIEWING_PARAMETERS
/* The JPEG2000 image data file associated with this label. */
OBJECT = COMPRESSED_FILE
  FILE_NAME = "ESP_072223_2565_RED.JP2"
  RECORD_TYPE = UNDEFINED
  ENCODING_TYPE = "JP2"
  ENCODING_TYPE_VERSION_NAME = "ISO/IEC15444-1:2004"
  INTERCHANGE_FORMAT = BINARY
  /* The name of the original source file. */
  UNCOMPRESSED_FILE_NAME = "ESP_072223_2565_RED.IMG"
  /* The amount of original image data. */
  REQUIRED_STORAGE_BYTES = 1804050710 <BYTES>
  ^DESCRIPTION = "JP2INFO.TXT"
END_OBJECT = COMPRESSED_FILE
/* The source image data definition. */
OBJECT = UNCOMPRESSED_FILE
  FILE_NAME = "ESP_072223_2565_RED.IMG"
  RECORD_TYPE = FIXED_LENGTH
  RECORD_BYTES = 81070 <BYTES>
  FILE_RECORDS = 22253
  ^IMAGE = "ESP_072223_2565_RED.IMG"
  OBJECT = IMAGE
    DESCRIPTION = "HiRISE projected and mosaicked product"
    LINES = 22253
    LINE_SAMPLES = 40535
    BANDS = 1
    SAMPLE_TYPE = MSB_UNSIGNED_INTEGER
    SAMPLE_BITS = 16
    SAMPLE_BIT_MASK = 2#0000001111111111#
    /* NOTE: The conversion from DN to I/F (intensity/flux) is: */
    /* I/F = (DN * SCALING_FACTOR) + OFFSET */
    /* I/F is defined as the ratio of the observed radiance and */
    /* the radiance of a 100% lambertian reflector with the sun */
    /* and camera orthogonal to the observing surface. */
    SCALING_FACTOR = 2.84265225933202e-05
    OFFSET = 0.02777682043222
    BAND_STORAGE_TYPE = BAND_SEQUENTIAL
    CORE_NULL = 0
    CORE_LOW_REPR_SATURATION = 1
    CORE_LOW_INSTR_SATURATION = 2
    CORE_HIGH_REPR_SATURATION = 1023
    CORE_HIGH_INSTR_SATURATION = 1022
    CENTER_FILTER_WAVELENGTH = 700 <NM>
    MRO:MINIMUM_STRETCH = 3
    MRO:MAXIMUM_STRETCH = 1021
    FILTER_NAME = "RED"
  END_OBJECT = IMAGE
END_OBJECT = UNCOMPRESSED_FILE
END
