PDS_VERSION_ID = PDS3
/* Identification Information */
NOT_APPLICABLE_CONSTANT = -9998
DATA_SET_ID = "MRO-M-HIRISE-3-RDR-V1.1"
DATA_SET_NAME = "MRO MARS HIGH RESOLUTION IMAGING SCIENCE EXPERIMENT RDR V1.1"
PRODUCER_INSTITUTION_NAME = "UNIVERSITY OF ARIZONA"
PRODUCER_ID = "UA"
PRODUCER_FULL_NAME = "ALFRED MCEWEN"
OBSERVATION_ID = "ESP_047283_1080"
PRODUCT_ID = "ESP_047283_1080_RED"
PRODUCT_VERSION_ID = "1.0"
INSTRUMENT_HOST_NAME = "MARS RECONNAISSANCE ORBITER"
INSTRUMENT_HOST_ID = "MRO"
INSTRUMENT_NAME = "HIGH RESOLUTION IMAGING SCIENCE EXPERIMENT"
INSTRUMENT_ID = "HIRISE"
TARGET_NAME = "MARS"
MISSION_PHASE_NAME = "EXTENDED SCIENCE PHASE"
ORBIT_NUMBER = 47283
SOURCE_PRODUCT_ID = (ESP_047283_1080_RED0_0, ESP_047283_1080_RED0_1, ESP_047283_1080_RED1_0, ESP_047283_1080_RED1_1, ESP_047283_1080_RED2_0, ESP_047283_1080_RED2_1, ESP_047283_1080_RED3_0, ESP_047283_1080_RED3_1, ESP_047283_1080_RED4_0, ESP_047283_1080_RED4_1, ESP_047283_1080_RED5_0, ESP_047283_1080_RED5_1, ESP_047283_1080_RED6_0, ESP_047283_1080_RED6_1, ESP_047283_1080_RED7_0, ESP_047283_1080_RED7_1, ESP_047283_1080_RED8_0, ESP_047283_1080_RED8_1)
RATIONALE_DESC = "Monitor changes in Richardson Crater dune field"
SOFTWARE_NAME = "PDS_to_JP2 v3.19 (1.53 2012/01/24 03:07:27)"
OBJECT = IMAGE_MAP_PROJECTION
  ^DATA_SET_MAP_PROJECTION = "DSMAP.CAT"
  MAP_PROJECTION_TYPE = "POLAR STEREOGRAPHIC"
  PROJECTION_LATITUDE_TYPE = PLANETOCENTRIC
  A_AXIS_RADIUS = 3396.19 <KM>
  B_AXIS_RADIUS = 3396.19 <KM>
  C_AXIS_RADIUS = 3376.2 <KM>
  COORDINATE_SYSTEM_NAME = PLANETOCENTRIC
  POSITIVE_LONGITUDE_DIRECTION = EAST
  KEYWORD_LATITUDE_TYPE = PLANETOCENTRIC
  /* NOTE: CENTER_LATITUDE and CENTER_LONGITUDE describe the location */
  /* of the center of projection, which is not necessarily equal to the */
  /* location of the center point of the image. */
  CENTER_LATITUDE = -90.000 <DEG>
  CENTER_LONGITUDE = 0.000 <DEG>
  LINE_FIRST_PIXEL = 1
  LINE_LAST_PIXEL = 26790
  SAMPLE_FIRST_PIXEL = 1
  SAMPLE_LAST_PIXEL = 13079
  MAP_PROJECTION_ROTATION = 0.0 <DEG>
  MAP_RESOLUTION = 117851.61241167 <PIX/DEG>
  MAP_SCALE = 0.5 <METERS/PIXEL>
  MAXIMUM_LATITUDE = -71.893509165499 <DEG>
  MINIMUM_LATITUDE = -72.11479291742 <DEG>
  LINE_PROJECTION_OFFSET = -2124947.5 <PIXEL>
  SAMPLE_PROJECTION_OFFSET = -15388.5 <PIXEL>
  EASTERNMOST_LONGITUDE = 179.58531790387 <DEG>
  WESTERNMOST_LONGITUDE = 179.24152768677 <DEG>
END_OBJECT = IMAGE_MAP_PROJECTION
/* All xxx_COUNT values are for the MRO spacecraft clock (SCLK) */
/* in seconds:subseconds form. A subsecond tick = 15.2588 microseconds. */
/* All xxx_TIME values are referenced to UTC. */
GROUP = TIME_PARAMETERS
  /* Time when the observation first started */
  MRO:OBSERVATION_START_TIME = 2016-08-27T18:38:25.782
  /* Time of the first image line */
  START_TIME = 2016-08-27T18:38:25.915
  SPACECRAFT_CLOCK_START_COUNT = "1156790349:48680"
  /* Time of the last image line */
  STOP_TIME = 2016-08-27T18:38:29.863
  SPACECRAFT_CLOCK_STOP_COUNT = "1156790353:45306"
  /* Time when this RDR product was created */
  PRODUCT_CREATION_TIME = 2016-09-01T03:32:40
END_GROUP = TIME_PARAMETERS
GROUP = INSTRUMENT_SETTING_PARAMETERS
  MRO:CCD_FLAG = (ON, ON, ON, ON, ON, ON, ON, ON, ON, OFF, ON, ON, ON, ON)
  MRO:BINNING = (2, 2, 2, 2, 2, 2, 2, 2, 2, -9998, -9998, -9998, -9998, -9998)
  MRO:TDI = (64, 64, 64, 64, 64, 64, 64, 64, 64, -9998, -9998, -9998, -9998, -9998)
  MRO:SPECIAL_PROCESSING_FLAG = (NOMINAL, NOMINAL, NOMINAL, NOMINAL, NOMINAL, NOMINAL, NOMINAL, NOMINAL, NOMINAL, "NULL", "NULL", "NULL", "NULL", "NULL")
END_GROUP = INSTRUMENT_SETTING_PARAMETERS
GROUP = VIEWING_PARAMETERS
  INCIDENCE_ANGLE = 67.768750 <DEG>
  EMISSION_ANGLE = 9.019042 <DEG>
  PHASE_ANGLE = 75.217488 <DEG>
  LOCAL_TIME = 15.78637 <LOCALDAY/24>
  SOLAR_LONGITUDE = 211.824236 <DEG>
  SUB_SOLAR_AZIMUTH = 27.668069 <DEG>
  NORTH_AZIMUTH = 89.413423 <DEG>
END_GROUP = VIEWING_PARAMETERS
/* The JPEG2000 image data file associated with this label. */
OBJECT = COMPRESSED_FILE
  FILE_NAME = "ESP_047283_1080_RED.JP2"
  RECORD_TYPE = UNDEFINED
  ENCODING_TYPE = "JP2"
  ENCODING_TYPE_VERSION_NAME = "ISO/IEC15444-1:2004"
  INTERCHANGE_FORMAT = BINARY
  /* The name of the original source file. */
  UNCOMPRESSED_FILE_NAME = "ESP_047283_1080_RED.IMG"
  /* The amount of original image data. */
  REQUIRED_STORAGE_BYTES = 700772820 <BYTES>
  ^DESCRIPTION = "JP2INFO.TXT"
END_OBJECT = COMPRESSED_FILE
/* The source image data definition. */
OBJECT = UNCOMPRESSED_FILE
  FILE_NAME = "ESP_047283_1080_RED.IMG"
  RECORD_TYPE = FIXED_LENGTH
  RECORD_BYTES = 26158 <BYTES>
  FILE_RECORDS = 26790
  ^IMAGE = "ESP_047283_1080_RED.IMG"
  OBJECT = IMAGE
    DESCRIPTION = "HiRISE projected and mosaicked product"
    LINES = 26790
    LINE_SAMPLES = 13079
    BANDS = 1
    SAMPLE_TYPE = MSB_UNSIGNED_INTEGER
    SAMPLE_BITS = 16
    SAMPLE_BIT_MASK = 2#0000001111111111#
    /* NOTE: The conversion from DN to I/F (intensity/flux) is: */
    /* I/F = (DN * SCALING_FACTOR) + OFFSET */
    /* I/F is defined as the ratio of the observed radiance and */
    /* the radiance of a 100% lambertian reflector with the sun */
    /* and camera orthogonal to the observing surface. */
    SCALING_FACTOR = 5.64256904616925e-05
    OFFSET = 0.084836599086672
    BAND_STORAGE_TYPE = BAND_SEQUENTIAL
    CORE_NULL = 0
    CORE_LOW_REPR_SATURATION = 1
    CORE_LOW_INSTR_SATURATION = 2
    CORE_HIGH_REPR_SATURATION = 1023
    CORE_HIGH_INSTR_SATURATION = 1022
    CENTER_FILTER_WAVELENGTH = 700 <NM>
    MRO:MINIMUM_STRETCH = 3
    MRO:MAXIMUM_STRETCH = 1021
    FILTER_NAME = "RED"
  END_OBJECT = IMAGE
END_OBJECT = UNCOMPRESSED_FILE
END
