PDS_VERSION_ID = PDS3
/* Identification Information */
NOT_APPLICABLE_CONSTANT = -9998
DATA_SET_ID = "MRO-M-HIRISE-3-RDR-V1.1"
DATA_SET_NAME = "MRO MARS HIGH RESOLUTION IMAGING SCIENCE EXPERIMENT RDR V1.1"
PRODUCER_INSTITUTION_NAME = "UNIVERSITY OF ARIZONA"
PRODUCER_ID = "UA"
PRODUCER_FULL_NAME = "ALFRED MCEWEN"
OBSERVATION_ID = "ESP_028119_2670"
PRODUCT_ID = "ESP_028119_2670_RED"
PRODUCT_VERSION_ID = "1.0"
INSTRUMENT_HOST_NAME = "MARS RECONNAISSANCE ORBITER"
INSTRUMENT_HOST_ID = "MRO"
INSTRUMENT_NAME = "HIGH RESOLUTION IMAGING SCIENCE EXPERIMENT"
INSTRUMENT_ID = "HIRISE"
TARGET_NAME = "MARS"
MISSION_PHASE_NAME = "EXTENDED SCIENCE PHASE"
ORBIT_NUMBER = 28119
SOURCE_PRODUCT_ID = (ESP_028119_2670_RED0_0, ESP_028119_2670_RED0_1, ESP_028119_2670_RED1_0, ESP_028119_2670_RED1_1, ESP_028119_2670_RED2_0, ESP_028119_2670_RED2_1, ESP_028119_2670_RED3_0, ESP_028119_2670_RED3_1, ESP_028119_2670_RED4_0, ESP_028119_2670_RED4_1, ESP_028119_2670_RED5_0, ESP_028119_2670_RED5_1, ESP_028119_2670_RED6_0, ESP_028119_2670_RED6_1, ESP_028119_2670_RED7_0, ESP_028119_2670_RED7_1, ESP_028119_2670_RED8_0, ESP_028119_2670_RED8_1)
RATIONALE_DESC = "Inter-annual monitoring of north polar residual cap surface "
SOFTWARE_NAME = "PDS_to_JP2 v3.19 (1.53 2012/01/24 03:07:27)"
OBJECT = IMAGE_MAP_PROJECTION
  ^DATA_SET_MAP_PROJECTION = "DSMAP.CAT"
  MAP_PROJECTION_TYPE = "POLAR STEREOGRAPHIC"
  PROJECTION_LATITUDE_TYPE = PLANETOCENTRIC
  A_AXIS_RADIUS = 3396.19 <KM>
  B_AXIS_RADIUS = 3396.19 <KM>
  C_AXIS_RADIUS = 3376.2 <KM>
  COORDINATE_SYSTEM_NAME = PLANETOCENTRIC
  POSITIVE_LONGITUDE_DIRECTION = EAST
  KEYWORD_LATITUDE_TYPE = PLANETOCENTRIC
  /* NOTE: CENTER_LATITUDE and CENTER_LONGITUDE describe the location */
  /* of the center of projection, which is not necessarily equal to the */
  /* location of the center point of the image. */
  CENTER_LATITUDE = 90.000 <DEG>
  CENTER_LONGITUDE = 0.000 <DEG>
  LINE_FIRST_PIXEL = 1
  LINE_LAST_PIXEL = 23674
  SAMPLE_FIRST_PIXEL = 1
  SAMPLE_LAST_PIXEL = 47260
  MAP_PROJECTION_ROTATION = 0.0 <DEG>
  MAP_RESOLUTION = 235703.22482333 <PIX/DEG>
  MAP_SCALE = 0.25 <METERS/PIXEL>
  MAXIMUM_LATITUDE = 87.142371508657 <DEG>
  MINIMUM_LATITUDE = 86.987888726096 <DEG>
  LINE_PROJECTION_OFFSET = 672081.5 <PIXEL>
  SAMPLE_PROJECTION_OFFSET = 229703.5 <PIXEL>
  EASTERNMOST_LONGITUDE = 199.48465585675 <DEG>
  WESTERNMOST_LONGITUDE = 195.20493465545 <DEG>
END_OBJECT = IMAGE_MAP_PROJECTION
/* All xxx_COUNT values are for the MRO spacecraft clock (SCLK) */
/* in seconds:subseconds form. A subsecond tick = 15.2588 microseconds. */
/* All xxx_TIME values are referenced to UTC. */
GROUP = TIME_PARAMETERS
  /* Time when the observation first started */
  MRO:OBSERVATION_START_TIME = 2012-07-26T13:36:15.205
  /* Time of the first image line */
  START_TIME = 2012-07-26T13:36:15.364
  SPACECRAFT_CLOCK_START_COUNT = "1027777010:05476"
  /* Time of the last image line */
  STOP_TIME = 2012-07-26T13:36:19.192
  SPACECRAFT_CLOCK_STOP_COUNT = "1027777013:59742"
  /* Time when this RDR product was created */
  PRODUCT_CREATION_TIME = 2012-08-02T03:03:46
END_GROUP = TIME_PARAMETERS
GROUP = INSTRUMENT_SETTING_PARAMETERS
  MRO:CCD_FLAG = (ON, ON, ON, ON, ON, ON, ON, ON, ON, OFF, ON, ON, ON, ON)
  MRO:BINNING = (1, 1, 1, 1, 1, 1, 1, 1, 1, -9998, -9998, -9998, -9998, -9998)
  MRO:TDI = (128, 128, 128, 128, 128, 128, 128, 128, 128, -9998, -9998, -9998, -9998, -9998)
  MRO:SPECIAL_PROCESSING_FLAG = (CUBENORM, CUBENORM, CUBENORM, CUBENORM, CUBENORM, CUBENORM, CUBENORM, CUBENORM, CUBENORM, "NULL", "NULL", "NULL", "NULL", "NULL")
END_GROUP = INSTRUMENT_SETTING_PARAMETERS
GROUP = VIEWING_PARAMETERS
  INCIDENCE_ANGLE = 73.200755 <DEG>
  EMISSION_ANGLE = 0.752520 <DEG>
  PHASE_ANGLE = 73.828451 <DEG>
  LOCAL_TIME = 10.71757 <LOCALDAY/24>
  SOLAR_LONGITUDE = 145.279764 <DEG>
  SUB_SOLAR_AZIMUTH = 233.150324 <DEG>
  NORTH_AZIMUTH = 72.655205 <DEG>
END_GROUP = VIEWING_PARAMETERS
/* The JPEG2000 image data file associated with this label. */
OBJECT = COMPRESSED_FILE
  FILE_NAME = "ESP_028119_2670_RED.JP2"
  RECORD_TYPE = UNDEFINED
  ENCODING_TYPE = "JP2"
  ENCODING_TYPE_VERSION_NAME = "ISO/IEC15444-1:2004"
  INTERCHANGE_FORMAT = BINARY
  /* The name of the original source file. */
  UNCOMPRESSED_FILE_NAME = "ESP_028119_2670_RED.IMG"
  /* The amount of original image data. */
  REQUIRED_STORAGE_BYTES = 2237666480 <BYTES>
  ^DESCRIPTION = "JP2INFO.TXT"
END_OBJECT = COMPRESSED_FILE
/* The source image data definition. */
OBJECT = UNCOMPRESSED_FILE
  FILE_NAME = "ESP_028119_2670_RED.IMG"
  RECORD_TYPE = FIXED_LENGTH
  RECORD_BYTES = 94520 <BYTES>
  FILE_RECORDS = 23674
  ^IMAGE = "ESP_028119_2670_RED.IMG"
  OBJECT = IMAGE
    DESCRIPTION = "HiRISE projected and mosaicked product"
    LINES = 23674
    LINE_SAMPLES = 47260
    BANDS = 1
    SAMPLE_TYPE = MSB_UNSIGNED_INTEGER
    SAMPLE_BITS = 16
    SAMPLE_BIT_MASK = 2#0000001111111111#
    /* NOTE: The conversion from DN to I/F (intensity/flux) is: */
    /* I/F = (DN * SCALING_FACTOR) + OFFSET */
    /* I/F is defined as the ratio of the observed radiance and */
    /* the radiance of a 100% lambertian reflector with the sun */
    /* and camera orthogonal to the observing surface. */
    SCALING_FACTOR = 6.92447937131631e-05
    OFFSET = 0.077472065618861
    BAND_STORAGE_TYPE = BAND_SEQUENTIAL
    CORE_NULL = 0
    CORE_LOW_REPR_SATURATION = 1
    CORE_LOW_INSTR_SATURATION = 2
    CORE_HIGH_REPR_SATURATION = 1023
    CORE_HIGH_INSTR_SATURATION = 1022
    CENTER_FILTER_WAVELENGTH = 700 <NM>
    MRO:MINIMUM_STRETCH = 3
    MRO:MAXIMUM_STRETCH = 1021
    FILTER_NAME = "RED"
  END_OBJECT = IMAGE
END_OBJECT = UNCOMPRESSED_FILE
END
