PDS_VERSION_ID = PDS3
/* Identification Information */
NOT_APPLICABLE_CONSTANT = -9998
DATA_SET_ID = "MRO-M-HIRISE-3-RDR-V1.1"
DATA_SET_NAME = "MRO MARS HIGH RESOLUTION IMAGING SCIENCE EXPERIMENT RDR V1.1"
PRODUCER_INSTITUTION_NAME = "UNIVERSITY OF ARIZONA"
PRODUCER_ID = "UA"
PRODUCER_FULL_NAME = "ALFRED MCEWEN"
OBSERVATION_ID = "PSP_007159_2505"
PRODUCT_ID = "PSP_007159_2505_MRGB"
PRODUCT_VERSION_ID = "2"
INSTRUMENT_HOST_NAME = "MARS RECONNAISSANCE ORBITER"
INSTRUMENT_HOST_ID = "MRO"
INSTRUMENT_NAME = "HIGH RESOLUTION IMAGING SCIENCE EXPERIMENT"
INSTRUMENT_ID = "HIRISE"
TARGET_NAME = "MARS"
MISSION_PHASE_NAME = "PRIMARY SCIENCE PHASE"
ORBIT_NUMBER = 7159
SOURCE_PRODUCT_ID = (PSP_007159_2505_RED0_0, PSP_007159_2505_RED0_1, PSP_007159_2505_RED1_0, PSP_007159_2505_RED1_1, PSP_007159_2505_RED2_0, PSP_007159_2505_RED2_1, PSP_007159_2505_RED3_0, PSP_007159_2505_RED3_1, PSP_007159_2505_RED4_0, PSP_007159_2505_RED4_1, PSP_007159_2505_RED5_0, PSP_007159_2505_RED5_1, PSP_007159_2505_RED6_0, PSP_007159_2505_RED6_1, PSP_007159_2505_RED7_0, PSP_007159_2505_RED7_1, PSP_007159_2505_RED8_0, PSP_007159_2505_BG12_0, PSP_007159_2505_BG12_1, PSP_007159_2505_BG13_0, PSP_007159_2505_BG13_1, PSP_007159_2505_IR11_0, PSP_007159_2505_IR11_1)
RATIONALE_DESC = "Center of ice mound in Louth Crater"
SOFTWARE_NAME = "PDS_to_JP2 v3.19 (1.53 2012/01/24 03:07:27)"
OBJECT = IMAGE_MAP_PROJECTION
  ^DATA_SET_MAP_PROJECTION = "DSMAP.CAT"
  MAP_PROJECTION_TYPE = "POLAR STEREOGRAPHIC"
  PROJECTION_LATITUDE_TYPE = PLANETOCENTRIC
  A_AXIS_RADIUS = 3396.19
  B_AXIS_RADIUS = 3396.19
  C_AXIS_RADIUS = 3376.2
  COORDINATE_SYSTEM_NAME = PLANETOCENTRIC
  POSITIVE_LONGITUDE_DIRECTION = EAST
  KEYWORD_LATITUDE_TYPE = PLANETOCENTRIC
  /* NOTE: CENTER_LATITUDE and CENTER_LONGITUDE describe the location */
  /* of the center of projection, which is not necessarily equal to the */
  /* location of the center point of the image. */
  CENTER_LATITUDE = 90.000
  CENTER_LONGITUDE = 0.0
  LINE_FIRST_PIXEL = 1
  LINE_LAST_PIXEL = 45367
  SAMPLE_FIRST_PIXEL = 1
  SAMPLE_LAST_PIXEL = 88311
  MAP_PROJECTION_ROTATION = 0.0
  MAP_RESOLUTION = 117851.61241167
  MAP_SCALE = 0.5
  MAXIMUM_LATITUDE = 70.557546934692
  MINIMUM_LATITUDE = 69.804807858422
  LINE_PROJECTION_OFFSET = 565572.5
  SAMPLE_PROJECTION_OFFSET = -2251819.5
  EASTERNMOST_LONGITUDE = 103.61193996179
  WESTERNMOST_LONGITUDE = 102.98328508213
END_OBJECT = IMAGE_MAP_PROJECTION
/* All xxx_COUNT values are for the MRO spacecraft clock (SCLK) */
/* in seconds:subseconds form. A subsecond tick = 15.2588 microseconds. */
/* All xxx_TIME values are referenced to UTC. */
GROUP = TIME_PARAMETERS
  /* Time when the observation first started */
  MRO:OBSERVATION_START_TIME = 2008-02-05T07:30:44.792
  /* Time of the first image line */
  START_TIME = 2008-02-05T07:30:44.960
  SPACECRAFT_CLOCK_START_COUNT = "886663864:47167"
  /* Time of the last image line */
  STOP_TIME = 2008-02-05T07:30:59.154
  SPACECRAFT_CLOCK_STOP_COUNT = "886663878:59883"
  /* Time when this RDR product was created */
  PRODUCT_CREATION_TIME = 2018-02-24T11:41:54
END_GROUP = TIME_PARAMETERS
GROUP = INSTRUMENT_SETTING_PARAMETERS
  MRO:CCD_FLAG = (ON, ON, ON, ON, ON, ON, OFF, ON, ON, ON, ON, ON, ON, OFF)
  MRO:BINNING = (2, 2, 2, 2, 2, 2, 2, 2, 2, -9998, 2, 2, 2, 2)
  MRO:TDI = (32, 32, 32, 32, 32, 32, 32, 32, 32, -9998, 32, 64, 64, 64)
  MRO:SPECIAL_PROCESSING_FLAG = (CUBENORM, CUBENORM, CUBENORM, CUBENORM, CUBENORM, CUBENORM, CUBENORM, CUBENORM, CUBENORM, "NULL", CUBENORM, "NULL", CUBENORM, "NULL")
END_GROUP = INSTRUMENT_SETTING_PARAMETERS
GROUP = VIEWING_PARAMETERS
  INCIDENCE_ANGLE = 62.463358
  EMISSION_ANGLE = 1.066750
  PHASE_ANGLE = 61.897401
  LOCAL_TIME = 14.24245
  SOLAR_LONGITUDE = 27.610636
  SUB_SOLAR_AZIMUTH = 24.466876
  NORTH_AZIMUTH = 166.702387
END_GROUP = VIEWING_PARAMETERS
/* The JPEG2000 image data file associated with this label. */
OBJECT = COMPRESSED_FILE
  FILE_NAME = "PSP_007159_2505_MRGB.JP2"
  RECORD_TYPE = UNDEFINED
  ENCODING_TYPE = "JP2"
  ENCODING_TYPE_VERSION_NAME = "ISO/IEC15444-1:2004"
  INTERCHANGE_FORMAT = BINARY
  /* The name of the original source file. */
  UNCOMPRESSED_FILE_NAME = "PSP_007159_2505_MRGB.IMG"
  /* The amount of original image data. */
  REQUIRED_STORAGE_BYTES = 12019215411
  ^DESCRIPTION = "JP2INFO.TXT"
END_OBJECT = COMPRESSED_FILE
/* The source image data definition. */
OBJECT = UNCOMPRESSED_FILE
  FILE_NAME = "PSP_007159_2505_MRGB.IMG"
  RECORD_TYPE = FIXED_LENGTH
  RECORD_BYTES = 88311
  FILE_RECORDS = 136101
  ^IMAGE = "PSP_007159_2505_MRGB.IMG"
  OBJECT = IMAGE
    DESCRIPTION = "HiRISE projected and mosaicked product"
    LINES = 45367
    LINE_SAMPLES = 88311
    BANDS = 3
    SAMPLE_TYPE = MSB_UNSIGNED_INTEGER
    SAMPLE_BITS = 8
    SAMPLE_BIT_MASK = 2#11111111#
    MRO:STRETCH_FLAG = "FROST_STRETCH"
    /* Scaled DNs have the range 0 to 255 */
    /* and are relative values. */
    SCALING_FACTOR = 1.0079051383399
    OFFSET = -1.0079051383399
    BAND_STORAGE_TYPE = BAND_SEQUENTIAL
    CORE_NULL = 0
    CORE_LOW_REPR_SATURATION = 0
    CORE_LOW_INSTR_SATURATION = 0
    CORE_HIGH_REPR_SATURATION = 255
    CORE_HIGH_INSTR_SATURATION = 255
    CENTER_FILTER_WAVELENGTH = (-9998 , -9998 , -9998 )
    MRO:MINIMUM_STRETCH = (1, 1, 1)
    MRO:MAXIMUM_STRETCH = (254, 254, 254)
    FILTER_NAME = ("NULL", "NULL", "NULL")
  END_OBJECT = IMAGE
END_OBJECT = UNCOMPRESSED_FILE
END
